BEGIN:VCALENDAR
VERSION:2.0
PRODID:icalendar-ruby
CALSCALE:GREGORIAN
METHOD:PUBLISH
BEGIN:VEVENT
DTSTAMP:20260421T041959Z
UID:9-809402@truefaithbaptist.org
DTSTART:20260824T100000Z
DTEND:20260824T100000Z
CLASS:PUBLIC
CREATED:20260420T201222
DESCRIPTION:Join us to get your week started in prayer.
LAST-MODIFIED:20260420T201222
LOCATION:Zoom
SUMMARY:Monday Morning Prayer
URL;VALUE=URI:https://www.truefaithbaptist.org/events/monday-morning-prayer
 --9/2026-08-24
ATTACH;FILENAME=Updated_Monday-Morning-Prayer-Flyer.jpg;FMTTYPE=image/jpeg:
 https://dq5pwpg1q8ru0.cloudfront.net/2024/02/11/03/26/31/298c0a17-5ca6-4a2
 0-966f-6a44dd9d46c7/Updated_Monday-Morning-Prayer-Flyer.jpg
END:VEVENT
END:VCALENDAR
