BEGIN:VCALENDAR
VERSION:2.0
PRODID:icalendar-ruby
CALSCALE:GREGORIAN
METHOD:PUBLISH
BEGIN:VEVENT
DTSTAMP:20260420T122002Z
UID:10-807098@truefaithbaptist.org
DTSTART:20260705T130000Z
DTEND:20260705T134500Z
CLASS:PUBLIC
CREATED:20260420T071716
DESCRIPTION:
LAST-MODIFIED:20260420T071716
LOCATION:
SUMMARY:Sunday School
URL;VALUE=URI:https://www.truefaithbaptist.org/events/sunday-school/2026-07
 -05
ATTACH;FILENAME=SundaySchool-1024x576.jpg;FMTTYPE=image/jpeg:https://dq5pwp
 g1q8ru0.cloudfront.net/2024/02/11/03/35/12/3820f5c2-2a7f-4083-9209-ac7b64c
 a6439/SundaySchool-1024x576.jpg
END:VEVENT
END:VCALENDAR
